BEGIN:VCALENDAR
VERSION:2.0
PRODID:-//Foundation for Intentional Community - ECPv6.15.17.1//NONSGML v1.0//EN
CALSCALE:GREGORIAN
METHOD:PUBLISH
X-ORIGINAL-URL:https://www.ic.org
X-WR-CALDESC:Events for Foundation for Intentional Community
REFRESH-INTERVAL;VALUE=DURATION:PT1H
X-Robots-Tag:noindex
X-PUBLISHED-TTL:PT1H
BEGIN:VTIMEZONE
TZID:America/Chicago
BEGIN:DAYLIGHT
TZOFFSETFROM:-0600
TZOFFSETTO:-0500
TZNAME:CDT
DTSTART:20220313T080000
END:DAYLIGHT
BEGIN:STANDARD
TZOFFSETFROM:-0500
TZOFFSETTO:-0600
TZNAME:CST
DTSTART:20221106T070000
END:STANDARD
BEGIN:DAYLIGHT
TZOFFSETFROM:-0600
TZOFFSETTO:-0500
TZNAME:CDT
DTSTART:20230312T080000
END:DAYLIGHT
BEGIN:STANDARD
TZOFFSETFROM:-0500
TZOFFSETTO:-0600
TZNAME:CST
DTSTART:20231105T070000
END:STANDARD
BEGIN:DAYLIGHT
TZOFFSETFROM:-0600
TZOFFSETTO:-0500
TZNAME:CDT
DTSTART:20240310T080000
END:DAYLIGHT
BEGIN:STANDARD
TZOFFSETFROM:-0500
TZOFFSETTO:-0600
TZNAME:CST
DTSTART:20241103T070000
END:STANDARD
END:VTIMEZONE
BEGIN:VEVENT
DTSTART;TZID=America/Chicago:20231005T130000
DTEND;TZID=America/Chicago:20231005T143000
DTSTAMP:20260421T200041
CREATED:20230913T180447Z
LAST-MODIFIED:20230914T191323Z
UID:559174-1696510800-1696516200@www.ic.org
SUMMARY:Virtual Tour of Intentional Communities October
DESCRIPTION:Virtual Tour of Intentional Communities October \n\n\n\nThursday\, October 5\, 2023 \n\n\n\n\nPacific: 11am-12:30pm\n\n\n\nMountain: 12pm-1:30pm\n\n\n\nCentral: 1-2:30pm\n\n\n\nEastern: 2-3:30pm\n\n\n\n\n\nREGISTER NOW\n\n\n\n\n\n\n\n\n\n\n\n\nMeet a diversity of communities during the Virtual Tour of Communities October 2023. From secular to spiritual\, urban and rural\, forming and established — get a vibrant taste of the communities movement without leaving your armchair! \n\n\n\n\n\n\n\nAbout the Virtual Tour of Intentional Communities October 2023 \n\n\n\n \n\n\n\nWhat you get from the Virtual Tour experience: \n\n\n\n\nphotos\, videos\, captivating stories and insightful conversations\n\n\n\ndeeper insight into the lives of communitarians and the places they live\n\n\n\ninspiration to get you excited about your own community journey\n\n\n\ninformation about housing and membership opportunities\n\n\n\nnetwork building with presenters and fellow participants\n\n\n\na sense for what’s alive in the communities movement right now\n\n\n\nplenty of time for you to ask your burning questions about community living.\n\n\n\n\n\n\n\n\n\n\n\n\n\n\n\n\nCommunities Presenting in October\n\n\n\n\n\n\n\n\n\n\n\n\n\n\n\nEcovillage at Ithaca\n\n\n\nLocated in the beautiful region of New York’s Finger Lakes\, EcoVillage at Ithaca has three thriving cohousing neighborhoods. The village features cooperative dining in the common houses\, a swimming pond\, neighborhood community gardens\, hiking trails\, play spaces\, 85 energy efficient homes\, a common house with 15 apartments\, all in a multigenerational village-scale community. The pedestrian village is surrounded by woods and open meadows.  \n\n\n\nLearn More \n\n\n\n \n\n\n\n\n\n\n\n\n\n\n\n\n\n\n\n\n\n\n\n\n\nWalnut St Cooperative\n\n\n\nWalnut Street Co-op is a social change oriented cooperative household in Eugene\, Oregon. In September 2000 we moved into a large\, rambling house together\, seeking to build community. Three years later we formed a legal co-op\, funding the project with many small loans from like-minded individuals. As housemates\, we eat dinner together\, share chores\, attend house meetings and work parties\, and have a basic commitment to resolve conflicts. We trust that each person holds a piece of the truth\, and we are committed to deep listening with each other. \n\n\n\nLearn More \n\n\n\n \n\n\n\n \n\n\n\n\n\n\n\n\n\n\n\n\n\n\n\n\n\nLa Cité Écologique\n\n\n\n \n\n\n\nCité Écologique is an ecovillage located in Ham-Nord in the region of Quebec\, Canada where residents give priority to education\, sustainable development and respect. We offer an alternative lifestyle where businesses\, community and sustainability are intertwined. The community began in 1984 as an alternative school based on “respect for nature.” Now\, 100 members live here on a permanent basis. Visitors and interns are welcome to join our visitor’s program during summer time. \n\n\n\nLearn More \n\n\n\n\n\n\n\n\n\n\n\n\n\n\n\n\n\nMeet Your Host\n\n\n\n \n\n\n\n\n\n\n\n\n\n\n\nCynthia Tina\n\n\n\nCynthia Tina is the “community matchmaker” and founder of CommunityFinders\, offering programs to help people join and start intentional communities. She’s also the founder of Ecovillage Tours\, bringing people on inspirational journeys to sustainable communities. She has visited more than 150 intentional communities around the world\, including the Vermont ecovillage where she lives in her self-built passive solar home.  \n\n\n\nFormerly the co-director\, Cynthia is now a spokesperson and educator with the Foundation for Intentional Community. She’s a former trustee of the Global Ecovillage Network and former director of the youth ecovillage network\, NextGEN North America. She holds a degree in Sustainability from Goddard College\, as well as certificates in Permaculture and Ecovillage Design\, and Yoga Teacher Training. \n\n\n\nGet started on your community journey with a short quiz to find out which type of community is a fit for you! https://communityfinders.com/quiz \n\n\n\n\n\n\n\n\n\n\n\n\n\n\n\n\n\n\n\n\n\nWho should attend?\n\n\n\n \n\n\n\nYou should attend the Virtual Tour of Intentional Communities if you want to: \n\n\n\n\nvisit an intentional community\n\n\n\njoin an intentional community\n\n\n\nlearn more about intentional community in general\n\n\n\n\n\n\n\n\nLocation\n\n\n\n \n\n\n\nYou’ll get the Zoom link after you register in your confirmation email. Please check the spam folder of the inbox you use to register. \n\n\n\n \n\n\n\nDownload Zoom \n\n\n\n\n\n\n\n\n\n\n\n\nThe Online Event Experience\n\n\n\n\n\n\n\n  \n\n\n\n\n\n\n\n\n\nLive Zoom Sessions\n\n\n\n \n\n\n\nNothing pre-recorded here! When you sign-up for an event with FIC\, you’ll have the opportunity to join a live session on Zoom with the event presenter/facilitator and other participants. \n\n\n\n\n\n\n\n\n\nAffordable and Accessible\n\n\n\n \n\n\n\nAll our events are run on a sliding scale basis. Generous donations cover the costs for low-income attendees. FIC is committed to making our programs accessible to people of all walks of life. \n\n\n\n\n\n\n\n\n\nWatch the Recording\n\n\n\n \n\n\n\nYou’ll receive the recording of your event to view for 60 days. So don’t worry if you can’t attend a live session. Watch or listen whenever it is convenient for you. Transcripts available upon request. \n\n\n\n\n\n\n\n\n\n\nTestimonials for Virtual Tour of Intentional Communities \n\n\n\n \n\n\n\n“This is my first exposure to intentional living situations. I thoroughly enjoyed learning about the possibilities and the underlying thinking that informs this kind of living choice. The presenters were excellent. It was great to see the different settings and to hear the various questions related to these three living situations. Thank you so much for this presentation.” \n\n\n\n-Leslie Slate \n\n\n\n \n\n\n\n“Great photos and narratives about the philosophy and diversity of communities. I learned about thinks I didn’t know and was given the opportunity to ask all my questions\, which were answered in a comprehensive manner.” \n\n\n\n-Ivy Summer \n\n\n\n\n\n\n\nRegistration\n\n\n\n\n\n\n\n\n\n\n\n\n\n\n\n\n\n\n\n\n\n\nYou might also be interested in \n\n\n\n \n\n\n\n\nIntentional Community Basics On-Demand Course\n\n\n\nFinding Your Community On-Demand Course\n\n\n\nStarting a Community On-Demand Course
URL:https://www.ic.org/event/virtual-tour-of-intentional-communities-october-2023/
CATEGORIES:FIC Members,Partner Events,Public
ATTACH;FMTTYPE=image/jpeg:https://www.ic.org/wp-content/uploads/2021/12/Virtual-Tour-Featured-Image.jpeg
END:VEVENT
END:VCALENDAR