BEGIN:VCALENDAR
VERSION:2.0
PRODID:-//Foundation for Intentional Community - ECPv6.1.4//NONSGML v1.0//EN
CALSCALE:GREGORIAN
METHOD:PUBLISH
X-ORIGINAL-URL:https://www.ic.org
X-WR-CALDESC:Events for Foundation for Intentional Community
REFRESH-INTERVAL;VALUE=DURATION:PT1H
X-Robots-Tag:noindex
X-PUBLISHED-TTL:PT1H
BEGIN:VTIMEZONE
TZID:America/Chicago
BEGIN:DAYLIGHT
TZOFFSETFROM:-0600
TZOFFSETTO:-0500
TZNAME:CDT
DTSTART:20230312T080000
END:DAYLIGHT
BEGIN:STANDARD
TZOFFSETFROM:-0500
TZOFFSETTO:-0600
TZNAME:CST
DTSTART:20231105T070000
END:STANDARD
END:VTIMEZONE
BEGIN:VEVENT
DTSTART;TZID=America/Chicago:20230913T110000
DTEND;TZID=America/Chicago:20230913T130000
DTSTAMP:20230814T101750
CREATED:20230719T025303Z
LAST-MODIFIED:20230812T182637Z
UID:10000839-1694602800-1694610000@www.ic.org
SUMMARY:Intentional Community for Families: What it is\, isn't\, and can be
DESCRIPTION:Intentional Community for Families: What it is\, isn’t and can be \nWednesday\, September 13\, 2023  \n\nPacific: 9:00-11:00am\nMountain: 10:00am-12:00pm\nCentral: 11:00am-1:00pm\nEastern: 12:00-2:00pm\n\n\nREGISTER NOW\n\n\n\n\n\n \n\n\nJoin therapist\, coach and community builder Amy Saloner to explore intentional community for families and learn what it is\, isn’t and can be. \n\nAbout the event\n \nWhether you live in a small community or a large community\, in an urban or rural setting\, with lots of children or few children\, one thing we all know for sure is that we want a safe and healthy place to raise our kids.  \n \nIntentional Communities can provide that for your family\, but what are ways in which our expectations may make this process more challenging? Intentional Community can provide access to childcare\, but it’s not a round-the-clock daycare. Where do we draw the line when it comes to how the community will come together to help raise our kids? \n \nIn this workshop\, you will discover the many ways in which Intentional Community can be a wonderful place to raise children\, and how to set appropriate expectations that serve both the children and the community as a whole.  \n \nIn this workshop\, you’ll:\n\nunderstand different types of community\nlearn what community isn’t and set reasonable expectations\nbe inspired by what community can provide for your family\n\n\nAbout your presenter\n\n\n\n\n\n\nAmy Saloner\n \nAmy is a Licensed Clinical Social Worker and Functional Nutritional Therapy Practitioner. She has worked for the last thirty years with children and families as a therapist\, parent and teen coach\, educator\, birth advocate and community builder. Amy has worked in non-profit and for-profit organizations as well as as an entrepreneur. She and her husband co-founded The Emerald Village Intentional Community in North County San Diego with four other families twelve years ago. She is the mother to three adolescents\, ages 23\, 16 and 13. Amy is currently working at the intersection of mental health\, nutrition and community building for teens and their families\, specializing in optimal health\, relationships and rites of passage into young adulthood. \n \n\n\n\nLocation\n \nYou’ll get the Zoom link after you register in your confirmation email. Please check the spam folder of the inbox you use to register for an email from orders@ic.org. \n \nDownload Zoom \n \n\n\nThe Online Event Experience\n\n  \n\n\n\n\n\nLive Zoom Sessions\n \nNothing pre-recorded here! When you sign-up for an event with FIC\, you’ll have the opportunity to join a live session on Zoom with the event presenter/facilitator and other participants. \n\n\n\n\n\nAffordable and Accessible\n \nAll our events are run on a sliding scale basis. Generous donations cover the costs for low-income attendees. FIC is committed to making our programs accessible to people of all walks of life. \n\n\n\n\n\nWatch the Recording\n \nYou’ll receive the recording of your event to view for 60 days. So don’t worry if you can’t attend a live session. Watch or listen whenever it is convenient for you. Transcripts available upon request. \n\n\n\n\n\nRegistration\n\n			\n				\n\n	\n	\n			\n\n\n	\n		Intentional Community for Families: What it is\, isn’t and can beFrom: $20.00 \n\n	This is one of five workshops included in the 10-hour Raising Children in Community course. Registering for the course will give you full access to the course learning area that includes additional resources\, access to private discussion space for networking with instructors and other participants\, discounts on select books in our bookstore\, and access to class transcripts and audio recordings for learning on the go. Learn more and register for the full course here. \nIf cost is a barrier to join this workshop\, please email us at events@ic.org for a 50% off coupon code. Please include the name of the event you’d like to attend. \n\n\n\n	\n			\n			\n									\n						Donation Level\n						\n							Donation Level$20 - minimum donation (covers presenter's time)$40 - standard donation (covers presenter's time + FIC's costs)$60 - generous donation (covers the above + supports the intentional community movement)Custom donation amountClear						\n					\n							\n		\n		\n		\n			 \n	\n		\n		\n\n		\n		\n\n		\n			\n\n	\n	 \n\n\n\n\n		\n\n	\n	\n		Intentional Community for Families: What it is\, isn’t and can be quantity\n	\n	\n\n	Register\n\n	\n\n\n\n\n\n\n	\n	\n	\n\n		\n	\n	\n\n \n\n	\n	\n	Categories: Event\, Program\n	\n	\n\n	\n\n	\n\n			\n			 \n\n\n \n\n\n\nYou might also be interested in \n \n\nThe Joys & Challenges of Children in Community workshop\nCo-Parenting in Community workshop\nOptions for Educating Children in Community workshop\nPlanning for Children in Community workshop\nRaising Children in Community course
URL:https://www.ic.org/event/intentional-community-for-families/
ATTACH;FMTTYPE=image/jpeg:https://www.ic.org/wp-content/uploads/2023/07/Intentional-Community-for-Families-product-image.jpg
END:VEVENT
BEGIN:VEVENT
DTSTART;TZID=America/Chicago:20230913T140000
DTEND;TZID=America/Chicago:20230913T160000
DTSTAMP:20230814T101750
CREATED:20230528T194736Z
LAST-MODIFIED:20230812T184114Z
UID:10000825-1694613600-1694620800@www.ic.org
SUMMARY:Reclaiming Death and Dying in Community
DESCRIPTION:Reclaiming Death & Dying in Community \nWednesday\, September 13 & Thursday\, September 14\, 2023  \n\nPacific: 12-2pm \nMountain: 1-3pm\nCentral: 2-4pm\nEastern: 3-5pm\n\n\nREGISTER NOW\n\n\n\n\n\n \n\n\nJoin end-of-life educator Lee Warren for a 2-part exploration of end of life literacy\, death positivity\, and the conscious dying movement. \n\nAbout the event\n \nPart 1: Befriending Death\nContemplating death\, ours and others\, is a deeply empowering practice that allows us to live more fully in the present and gives us access to an immense gratitude for the miracle of our own existence. There is no other mechanism quite as powerful in bringing us face to face with profound awe. Join Lee as she shares her recipe for internal and external processes that help us befriend death. External processes include an overview of the spectrum of end of life paperwork and preparations and after death options. Internal processes include discussions on how to nourish the components of our infinite selves in order to access and enhance our sacred journey with death and come to know that we already have everything we need for a positive and conscious death experience. We’ll also discuss how to create a death literate community wherever you live. \n \nReclaiming Death and Dying in Community is for folks at all stages of age and health. Intentionally preparing for death is always time well spent and increases the likelihood of having a good death. Paradoxically and unsurprisingly\, these principles and practices lead to a more ecstatic life. Expect educational components\, discussion\, contemplation exercises\, real-life examples\, resources\, as well as active encouragement for practical next steps. \n \nPart 2: The Art & Practice of Community Based Death & Dying\nAs a member of Earthaven Ecovillage\, Lee Warren has been part of a team of folks gifted with the sacred opportunity to steward the death and dying process of many beloved community members. The collective sense of reverence\, connection\, and harmony that arose from these experiences offered a profound deepening of relationships and the creation of community-wide systems dedicated to this end of life process. For all involved\, from the closest death tenders to the funeral attendees\, these experiences have been life changing and heart opening. \n \nDiscover how this group navigates the dying process\, tends to the dead\, designs home funerals and home burials\, supports the expression of grief\, and cares for the caregivers. These beautifully emergent practices have been holistically learned through their humble service and a desire to reclaim the art of caring for our own at death. Specifically\, they garnered this wisdom through the grace of the dying\, the synergy of many traditions\, really good mentors\, and their own innate evolutionary intuition. We’ll discuss death preparedness\, death literacy\, and a whole new attitude of death philosophies that are possible within the context of community. Discover your own doorway to profound mysticism and magic as you embrace all that community-based end of life has to offer. \n \nDuring Reclaiming Death and Dying in Community you will:\n\nEnjoy death related stories from an emerging ecovillage\nAdapt end of life systems to your own life and community\nInquire into the resources already at hand in your group\nIncorporate emergent death philosophies into your worldview\nUnderstand the components of death literacy\nExplore death preparedness for self and groups\nGenerate enthusiasm for having death based conversations\nImplement small or large changes into your approach to death\nDevelop plans for more death positivity in your world\nExperiment with new ways of thinking about death\nReflect on what traditions are at play in your community\nExperience inspiration and motivation to discuss death preparedness\nChoose systems that support death preparedness\nCelebrate your inner wisdom\, insight\, and guidance\n\n\nAbout your presenter\n\n\n\n\n\n\nLee Warren\n \nLee is a devoted community builder. She is delighted by community of all kinds\, shapes\, sizes\, and intentions. Her life purpose is to provide leadership in the building of community in accessible\, natural\, and blissful ways. \n \nTo that end\, she is committed to reweaving the cosmologies as well as regenerating the cultural wisdom that allows for us ALL to “return to the village.” The village is a metaphor for the collaborative approach to life that will repair historical damage and create a sense of coherence and unity. Cultural repair looks like conscious relating to self\, to land\, to dying\, to living\, and to other. As we return to the village\, we create cohesive\, supportive\, inclusive\, and life-giving systems that tend to the whole\, most especially to the “more than human world”. \nIn the midst of this deep reverence\, we will come to see the divine in all things. All aspects of life are sacred opportunities for presence and soulful engagement. sustainable economics\, conscious dying\, and community of all kinds. \n \nLearn more about Lee and her work here. \n \n\n\n\nLocation\n \nYou’ll get the Zoom link after you register in your confirmation email. Please check the spam folder of the inbox you use to register for an email from orders@ic.org. \n \nDownload Zoom \n \n\n\nThe Online Event Experience\n\n  \n\n\n\n\n\nLive Zoom Sessions\n \nNothing pre-recorded here! When you sign-up for an event with FIC\, you’ll have the opportunity to join a live session on Zoom with the event presenter/facilitator and other participants. \n\n\n\n\n\nAffordable and Accessible\n \nAll our events are run on a sliding scale basis. Generous donations cover the costs for low-income attendees. FIC is committed to making our programs accessible to people of all walks of life. \n\n\n\n\n\nWatch the Recording\n \nYou’ll receive the recording of your event to view for 60 days. So don’t worry if you can’t attend a live session. Watch or listen whenever it is convenient for you. Transcripts available upon request. \n\n\n\n\n\nRegistration\n\n			\n				\n\n	\n	\n			\n\n\n	\n		Reclaiming Death & Dying in Community workshopFrom: $20.00 \n\n	Registration includes access to both workshop dates: September 13 & 14. \nNeed financial support? \nIf cost is a barrier to register\, please email us at events@ic.org for a 50% off coupon code\, including the name of the event you’d like to attend. We’re committed to ensuring everyone has access to intentional community learning opportunities. \n\n\n\n	\n			\n			\n									\n						Donation Level\n						\n							Donation Level$20 minimum donation (covers presenter’s time)$40 standard donation (covers presenter’s time + FIC’s costs)$60 generous donation (covers the above + supports the intentional community movement)Custom donation amountClear						\n					\n							\n		\n		\n		\n			 \n	\n		\n		\n\n		\n		\n\n		\n			\n\n	\n	 \n\n\n\n\n		\n\n	\n	\n		Reclaiming Death & Dying in Community workshop quantity\n	\n	\n\n	Register\n\n	\n\n\n\n\n\n\n	\n	\n	\n\n		\n	\n	\n\n \n\n	\n	\n	Categories: Event\, Program\n	\n	\n\n	\n\n	\n\n			\n			 \n\n\n \n\n\n\nYou might also be interested in \n \n\nIntentional Community Basics On-Demand Course\nFinding Your Community On-Demand Course\nStarting a Community On-Demand Course
URL:https://www.ic.org/event/reclaiming-death-and-dying-in-community/
ATTACH;FMTTYPE=image/jpeg:https://www.ic.org/wp-content/uploads/2023/03/Reclaiming-Death-Dying-in-Community-Product-Image.jpeg
END:VEVENT
END:VCALENDAR