BEGIN:VCALENDAR
VERSION:2.0
PRODID:-//Foundation for Intentional Community - ECPv6.15.17.1//NONSGML v1.0//EN
CALSCALE:GREGORIAN
METHOD:PUBLISH
X-ORIGINAL-URL:https://www.ic.org
X-WR-CALDESC:Events for Foundation for Intentional Community
REFRESH-INTERVAL;VALUE=DURATION:PT1H
X-Robots-Tag:noindex
X-PUBLISHED-TTL:PT1H
BEGIN:VTIMEZONE
TZID:America/Chicago
BEGIN:DAYLIGHT
TZOFFSETFROM:-0600
TZOFFSETTO:-0500
TZNAME:CDT
DTSTART:20220313T080000
END:DAYLIGHT
BEGIN:STANDARD
TZOFFSETFROM:-0500
TZOFFSETTO:-0600
TZNAME:CST
DTSTART:20221106T070000
END:STANDARD
BEGIN:DAYLIGHT
TZOFFSETFROM:-0600
TZOFFSETTO:-0500
TZNAME:CDT
DTSTART:20230312T080000
END:DAYLIGHT
BEGIN:STANDARD
TZOFFSETFROM:-0500
TZOFFSETTO:-0600
TZNAME:CST
DTSTART:20231105T070000
END:STANDARD
BEGIN:DAYLIGHT
TZOFFSETFROM:-0600
TZOFFSETTO:-0500
TZNAME:CDT
DTSTART:20240310T080000
END:DAYLIGHT
BEGIN:STANDARD
TZOFFSETFROM:-0500
TZOFFSETTO:-0600
TZNAME:CST
DTSTART:20241103T070000
END:STANDARD
END:VTIMEZONE
BEGIN:VEVENT
DTSTART;TZID=America/Chicago:20230705T110000
DTEND;TZID=America/Chicago:20230705T130000
DTSTAMP:20260421T124324
CREATED:20230525T171301Z
LAST-MODIFIED:20230623T185358Z
UID:550797-1688554800-1688562000@www.ic.org
SUMMARY:Introduction to Sociocracy
DESCRIPTION:Introduction to Sociocracy \n\n\n\nWednesday\, July 5\, 2023  \n\n\n\n\nPacific: 9:00-11:00am\n\n\n\nMountain: 10:00am-12:00pm\n\n\n\nCentral: 11:00am-1:00pm\n\n\n\nEastern: 12:00-2:00pm\n\n\n\n\n\nREGISTER NOW\n\n\n\n\n\n\n\n\n\n\n\n\nJoin trainer Genny Carraro to discover the power of inclusive decision-making in this introduction to Sociocracy workshop. \n\n\n\n\n\n\n\nAbout the event\n\n\n\n \n\n\n\nIn a world where power dynamics and conflicts are prevalent\, it’s important to find methods that allow for cooperation and creativity in decision making. Developed by Gerard Endenburg in the Netherlands\, Sociocracy is an organizational model based on equivalence\, efficiency\, and transparency. With decisions made through consent and feedback loops\, everyone feels involved and supported in the process.  \n\n\n\n \n\n\n\nThis playful two-hour workshop will introduce you to Sociocracy – providing basic knowledge about its principles so you can inspire others within your group or organization to make decisions cooperatively. \n\n\n\n \n\n\n\nDuring this workshop\, you will:\n\n\n\n\nunderstand how to adapt the Sociocracy framework to the specific needs of your group or organization. \n\n\n\nlearn how to lead efficient meetings \n\n\n\nlearn to embrace errors as opportunities for growth. \n\n\n\nlearn to express personal opinions and welcome other voices\n\n\n\n\n\n\n\n\nAbout your presenter\n\n\n\n\n\n\n\n\n\n\n\n\n\n\n\nGenny Carraro\n\n\n\n \n\n\n\nGenny is a trainer\, counsellor\, consultant\, facilitator and social activist born in Italy. She works with communities\, organizations and individuals to bring clarity\, ease and efficiency\, with a dose of energy\, straight-talk and humor. \n\n\n\nAt an early age\, Genny lost her sight\, and this life-changing event taught her lessons that shape who she is and how she works.  She believes that collaboration is the key to survival and growth\, and that healthy and trusting relationships are the foundation of our life experience. She is strongly attuned to subtle shifts in energy\, to what is left unsaid and what needs to be expressed for a group to move forward. These are gifts that she brings to her facilitation. \n\n\n\nGenny has worked on several educational projects to develop methodologies and approaches to transmit sustainability concepts. She managed and coordinated the European Ecovillage Network\, co-founded ECOLISE\, a European network for locally lead climate change and sustainability initiatives\, co-founded and coordinated the Italian Processwork school\, and has been a part of the creating of CLIPS Europe and CLIPS Italia\, a community incubator program for sustainable initiatives. Genny lives in and coordinates an intentional community where they experiment with sustainability from an eco-social point of view.Learn more about Genny and her work here. \n\n\n\n \n\n\n\n \n\n\n\n\n\n\n\n\n\nLocation\n\n\n\n \n\n\n\nYou’ll get the Zoom link after you register in your confirmation email. Please check the spam folder of the inbox you use to register for an email from orders@ic.org. \n\n\n\n \n\n\n\nDownload Zoom \n\n\n\n\n\n\n\n\nThe Online Event Experience\n\n\n\n\n\n\n\n  \n\n\n\n\n\n\n\n\n\nLive Zoom Sessions\n\n\n\n \n\n\n\nNothing pre-recorded here! When you sign-up for an event with FIC\, you’ll have the opportunity to join a live session on Zoom with the event presenter/facilitator and other participants. \n\n\n\n\n\n\n\n\n\nAffordable and Accessible\n\n\n\n \n\n\n\nAll our events are run on a sliding scale basis. Generous donations cover the costs for low-income attendees. FIC is committed to making our programs accessible to people of all walks of life. \n\n\n\n\n\n\n\n\n\nWatch the Recording\n\n\n\n \n\n\n\nYou’ll receive the recording of your event to view for 60 days. So don’t worry if you can’t attend a live session. Watch or listen whenever it is convenient for you. Transcripts available upon request. \n\n\n\n\n\n\n\n\n\n\nRegistration\n\n\n\n\n\n\n\n\n\n\n  \n\n\n\n\n\n\n\n\nYou might also be interested in \n\n\n\n \n\n\n\n\nMany Voices One Song book\n\n\n\nWho Decides\, Who Decides? book\n\n\n\nMeeting Evaluation cards\n\n\n\nSociocracy for Communities re-run course
URL:https://www.ic.org/event/introduction-to-sociocracy/
ATTACH;FMTTYPE=image/jpeg:https://www.ic.org/wp-content/uploads/2023/04/Intro-to-Sociocracy-teaser-product-image.jpg
END:VEVENT
END:VCALENDAR