BEGIN:VCALENDAR
VERSION:2.0
PRODID:-//Foundation for Intentional Community - ECPv6.15.17.1//NONSGML v1.0//EN
CALSCALE:GREGORIAN
METHOD:PUBLISH
X-ORIGINAL-URL:https://www.ic.org
X-WR-CALDESC:Events for Foundation for Intentional Community
REFRESH-INTERVAL;VALUE=DURATION:PT1H
X-Robots-Tag:noindex
X-PUBLISHED-TTL:PT1H
BEGIN:VTIMEZONE
TZID:America/Chicago
BEGIN:DAYLIGHT
TZOFFSETFROM:-0600
TZOFFSETTO:-0500
TZNAME:CDT
DTSTART:20220313T080000
END:DAYLIGHT
BEGIN:STANDARD
TZOFFSETFROM:-0500
TZOFFSETTO:-0600
TZNAME:CST
DTSTART:20221106T070000
END:STANDARD
BEGIN:DAYLIGHT
TZOFFSETFROM:-0600
TZOFFSETTO:-0500
TZNAME:CDT
DTSTART:20230312T080000
END:DAYLIGHT
BEGIN:STANDARD
TZOFFSETFROM:-0500
TZOFFSETTO:-0600
TZNAME:CST
DTSTART:20231105T070000
END:STANDARD
BEGIN:DAYLIGHT
TZOFFSETFROM:-0600
TZOFFSETTO:-0500
TZNAME:CDT
DTSTART:20240310T080000
END:DAYLIGHT
BEGIN:STANDARD
TZOFFSETFROM:-0500
TZOFFSETTO:-0600
TZNAME:CST
DTSTART:20241103T070000
END:STANDARD
END:VTIMEZONE
BEGIN:VEVENT
DTSTART;TZID=America/Chicago:20231011T110000
DTEND;TZID=America/Chicago:20231011T130000
DTSTAMP:20260421T092620
CREATED:20230719T033655Z
LAST-MODIFIED:20230812T183723Z
UID:556162-1697022000-1697029200@www.ic.org
SUMMARY:Planning for Children in Community
DESCRIPTION:Planning for Children in Community  \n\n\n\nWednesday\, October 11\, 2023  \n\n\n\n\nPacific: 9:00-11:00am\n\n\n\nMountain: 10:00am-12:00pm\n\n\n\nCentral: 11:00am-1:00pm\n\n\n\nEastern: 12:00-2:00pm\n\n\n\n\n\nREGISTER NOW\n\n\n\n\n\n\n\n\n\n\n\n\nJoin Village Child Project founder\, mother and communitarian Janne Campbell to make sure your community is ready to welcome children. \n\n\n\n\n\n\n\nAbout the event\n\n\n\n \n\n\n\nAddressing the needs of families and children and how they will fit into the community is an important factor when deciding if your community is ready to welcome kids. But\, how do we know when we’re ready? Understanding the values of the community and the agreements you’ve made are paramount in making this critical decision for your community.  \n\n\n\n \n\n\n\nLooking at the capacity of your community and their willingness to support families will be an important factor to consider when planning for children in community. What is the expectation around co-holding the needs of families and children? How do children fit into community needs and goals? Are there cultural nuances to consider as well? How about welcoming children with higher support needs? For the safety and security of both the families and the community as a whole\, it’s necessary to answer these questions and lay the groundwork for introducing children to the community. \n\n\n\n \n\n\n\nJoin us for this 2-hour workshop to learn how to navigate the conversations that are needed when planning for children in community to ensure the happiness and comfort of everyone involved. \n\n\n\n \n\n\n\nIn this workshop\, you’ll:\n\n\n\n\nexplore issues of safety\, comfort and addressing harm\n\n\n\ngain a clear picture of the intersectionality of cultural nuances\, community values and agreements\n\n\n\nlearn how to be welcoming of children with higher support needs\n\n\n\n\n\n\n\n\nAbout your presenter\n\n\n\n\n\n\n\n\n\n\n\n\n\n\n\nJanne Campbell\n\n\n\n \n\n\n\nJanne is passionate about creating a world that works for all\, including children. As an unschooling mother of two\, devoted student of conscious parenting and nonviolent communication\, she serves the Great Turning by sharing what she knows about raising children in joy\, respect and connection. She is particularly drawn to supporting inquiry around the delicate ecosystem of family and children within the context of intentional community. When she isn’t making snacks and holding space for big feelings\, she’s fermenting\, baking\, cobbing\, foraging\, growing or skinning something and trying to start a (un)school. Janne is the founder of the Village Child Project where she consults with communities and other organizations who wish to support the liberation of children within the container of community. \n\n\n\n \n\n\n\n \n\n\n\n\n\n\n\n\n\nLocation\n\n\n\n \n\n\n\nYou’ll get the Zoom link after you register in your confirmation email. Please check the spam folder of the inbox you use to register for an email from orders@ic.org. \n\n\n\n \n\n\n\nDownload Zoom \n\n\n\n\n\n\n\n\nThe Online Event Experience\n\n\n\n\n\n\n\n  \n\n\n\n\n\n\n\n\n\nLive Zoom Sessions\n\n\n\n \n\n\n\nNothing pre-recorded here! When you sign-up for an event with FIC\, you’ll have the opportunity to join a live session on Zoom with the event presenter/facilitator and other participants. \n\n\n\n\n\n\n\n\n\nAffordable and Accessible\n\n\n\n \n\n\n\nAll our events are run on a sliding scale basis. Generous donations cover the costs for low-income attendees. FIC is committed to making our programs accessible to people of all walks of life. \n\n\n\n\n\n\n\n\n\nWatch the Recording\n\n\n\n \n\n\n\nYou’ll receive the recording of your event to view for 60 days. So don’t worry if you can’t attend a live session. Watch or listen whenever it is convenient for you. Transcripts available upon request. \n\n\n\n\n\n\n\n\n\n\nRegistration\n\n\n\n\n\n\n\n\n\n\n  \n\n\n\n\n\n\n\n\nYou might also be interested in \n\n\n\n \n\n\n\n\nRaising Children in Community course
URL:https://www.ic.org/event/planning-for-children-in-community/
ATTACH;FMTTYPE=image/jpeg:https://www.ic.org/wp-content/uploads/2023/07/Planning-for-Children-in-Community-product-image.jpg
END:VEVENT
END:VCALENDAR