BEGIN:VCALENDAR
VERSION:2.0
PRODID:-//Foundation for Intentional Community - ECPv6.15.17.1//NONSGML v1.0//EN
CALSCALE:GREGORIAN
METHOD:PUBLISH
X-ORIGINAL-URL:https://www.ic.org
X-WR-CALDESC:Events for Foundation for Intentional Community
REFRESH-INTERVAL;VALUE=DURATION:PT1H
X-Robots-Tag:noindex
X-PUBLISHED-TTL:PT1H
BEGIN:VTIMEZONE
TZID:America/Chicago
BEGIN:DAYLIGHT
TZOFFSETFROM:-0600
TZOFFSETTO:-0500
TZNAME:CDT
DTSTART:20220313T080000
END:DAYLIGHT
BEGIN:STANDARD
TZOFFSETFROM:-0500
TZOFFSETTO:-0600
TZNAME:CST
DTSTART:20221106T070000
END:STANDARD
BEGIN:DAYLIGHT
TZOFFSETFROM:-0600
TZOFFSETTO:-0500
TZNAME:CDT
DTSTART:20230312T080000
END:DAYLIGHT
BEGIN:STANDARD
TZOFFSETFROM:-0500
TZOFFSETTO:-0600
TZNAME:CST
DTSTART:20231105T070000
END:STANDARD
BEGIN:DAYLIGHT
TZOFFSETFROM:-0600
TZOFFSETTO:-0500
TZNAME:CDT
DTSTART:20240310T080000
END:DAYLIGHT
BEGIN:STANDARD
TZOFFSETFROM:-0500
TZOFFSETTO:-0600
TZNAME:CST
DTSTART:20241103T070000
END:STANDARD
END:VTIMEZONE
BEGIN:VEVENT
DTSTART;TZID=America/Chicago:20231004T110000
DTEND;TZID=America/Chicago:20231004T130000
DTSTAMP:20260421T105811
CREATED:20230719T032432Z
LAST-MODIFIED:20230812T183538Z
UID:556157-1696417200-1696424400@www.ic.org
SUMMARY:Options for Educating Children in Community
DESCRIPTION:Options for Educating Children in Community  \n\n\n\nWednesday\, October 4\, 2023  \n\n\n\n\nPacific: 9:00-11:00am\n\n\n\nMountain: 10:00am-12:00pm\n\n\n\nCentral: 11:00am-1:00pm\n\n\n\nEastern: 12:00-2:00pm\n\n\n\n\n\nREGISTER NOW\n\n\n\n\n\n\n\n\n\n\n\n\nJoin Village Child Project founder\, mother\, and communitarian Janne Campbell to explore your options for educating children in community. \n\n\n\n\n\n\n\nAbout the event\n\n\n\n \n\n\n\nWe all want the best for our children. Where do we begin when deciding which form of education they will receive? The options seem endless\, and the pressure to choose the right path for your child can be immense. From conventional schooling\, to community private schooling\, to microschools\, to Self-Directed Education — you want to be sure you are choosing the right option for the benefit of your child and your community.  \n\n\n\n \n\n\n\nHow your community plays a role in that decision is also a factor. What kinds of conversations do you need to have with your community? Does your community have the capacity for on-site education? Do all of the kids participate in the same kind of schooling? What about the wide spectrum of learning needs? Each community is different and has its own approach for educating their children. \n\n\n\n \n\n\n\nJoin us for this workshop to learn how to navigate through all of the educational options that are available to you and come to a decision that feels right for you and your community. \n\n\n\n \n\n\n\nIn this workshop\, you’ll:\n\n\n\n\nexplore your options for educating children in a community context\n\n\n\nunderstand the difference between Community private school vs Private and Co-op homeschooling/unschooling vs Microschools or ALCs\n\n\n\nlearn how to plan for the spectrum of learning needs\n\n\n\n\n\n\n\n\nAbout your presenter\n\n\n\n\n\n\n\n\n\n\n\n\n\n\n\nJanne Campbell\n\n\n\n \n\n\n\nJanne is passionate about creating a world that works for all\, including children. As an unschooling mother of two\, devoted student of conscious parenting and nonviolent communication\, she serves the Great Turning by sharing what she knows about raising children in joy\, respect and connection. She is particularly drawn to supporting inquiry around the delicate ecosystem of family and children within the context of intentional community. When she isn’t making snacks and holding space for big feelings\, she’s fermenting\, baking\, cobbing\, foraging\, growing or skinning something and trying to start a (un)school. Janne is the founder of the Village Child Project where she consults with communities and other organizations who wish to support the liberation of children within the container of community. \n\n\n\n \n\n\n\n \n\n\n\n\n\n\n\n\n\nLocation\n\n\n\n \n\n\n\nYou’ll get the Zoom link after you register in your confirmation email. Please check the spam folder of the inbox you use to register for an email from orders@ic.org. \n\n\n\n \n\n\n\nDownload Zoom \n\n\n\n\n\n\n\n\nThe Online Event Experience\n\n\n\n\n\n\n\n  \n\n\n\n\n\n\n\n\n\nLive Zoom Sessions\n\n\n\n \n\n\n\nNothing pre-recorded here! When you sign-up for an event with FIC\, you’ll have the opportunity to join a live session on Zoom with the event presenter/facilitator and other participants. \n\n\n\n\n\n\n\n\n\nAffordable and Accessible\n\n\n\n \n\n\n\nAll our events are run on a sliding scale basis. Generous donations cover the costs for low-income attendees. FIC is committed to making our programs accessible to people of all walks of life. \n\n\n\n\n\n\n\n\n\nWatch the Recording\n\n\n\n \n\n\n\nYou’ll receive the recording of your event to view for 60 days. So don’t worry if you can’t attend a live session. Watch or listen whenever it is convenient for you. Transcripts available upon request. \n\n\n\n\n\n\n\n\n\n\nRegistration\n\n\n\n\n\n\n\n\n\n\n  \n\n\n\n\n\n\n\n\nYou might also be interested in \n\n\n\n \n\n\n\n\nPlanning for Children in Community workshop\n\n\n\nBest of Communities VII: Children in Community book
URL:https://www.ic.org/event/educating-children-in-community/
ATTACH;FMTTYPE=image/jpeg:https://www.ic.org/wp-content/uploads/2023/07/Educating-Children-in-Community-product-image.jpg
END:VEVENT
END:VCALENDAR