BEGIN:VCALENDAR
VERSION:2.0
PRODID:-//Foundation for Intentional Community - ECPv6.1.4//NONSGML v1.0//EN
CALSCALE:GREGORIAN
METHOD:PUBLISH
X-ORIGINAL-URL:https://www.ic.org
X-WR-CALDESC:Events for Foundation for Intentional Community
REFRESH-INTERVAL;VALUE=DURATION:PT1H
X-Robots-Tag:noindex
X-PUBLISHED-TTL:PT1H
BEGIN:VTIMEZONE
TZID:America/Chicago
BEGIN:DAYLIGHT
TZOFFSETFROM:-0600
TZOFFSETTO:-0500
TZNAME:CDT
DTSTART:20230312T080000
END:DAYLIGHT
BEGIN:STANDARD
TZOFFSETFROM:-0500
TZOFFSETTO:-0600
TZNAME:CST
DTSTART:20231105T070000
END:STANDARD
END:VTIMEZONE
BEGIN:VEVENT
DTSTART;TZID=America/Chicago:20230906T130000
DTEND;TZID=America/Chicago:20230906T150000
DTSTAMP:20230814T101337
CREATED:20230801T180925Z
LAST-MODIFIED:20230809T184817Z
UID:10000848-1694005200-1694012400@www.ic.org
SUMMARY:A Path of Purpose: Intuitive Mind Mapping
DESCRIPTION:A Path of Purpose: Intuitive Mind Mapping \nWednesday\, September 6\, 2023  \n\nPacific: 11:00am-1:00pm\nMountain: 12:00-2:00pm\nCentral: 1:00-3:00pm\nEastern: 2:00-4:00pm\n\n\nREGISTER NOW\n\n\n\n\n\n \n\n\nJoin spiritual mentor\, Audra Santa\, for a transformative workshop on intuitive mind mapping and your life purpose. \n\nAbout the event\n \nIn the search for something bigger\, we often look outside of ourselves for the answers\, only to discover that we don’t have to venture very far – we need only search within. How do we tap into the highest version of ourselves to realize our fullest potential? How do we align with our dreams to uncover our truths?  \nSpiritual mentor\, Audra Santa\, will guide you through this transformational 2-hour workshop to recalibrate your inner compass and connect with your life purpose. Learn a powerful method of Intuitive Mind Mapping to expand your vision\, gain profound insights and clarity\, connect with Source/Spirit\, and chart a course for your future. \nAudra has taught this divinely-inspired technique to hundreds of people\, supporting them to explore possibilities and align to a purposeful path. As we build intentional communities\, it benefits us both individually and as a collective to develop greater self-awareness and a deeper connection with our values and purpose.  \nJoin us on this inspiring journey of self-discovery and unlock the pieces that bring your life into greatest harmony. Find your path\, clarify your mission\, and co-create a beautiful future with the Universe and others building community. \n \nIn this workshop\, you’ll:\n\nIdentify your personal Pillars of Purpose (Self\, Source\, and Service) and what you truly value\nLearn how to uncover your gifts and talents by connecting to your inner truth\nGain clarity on your larger life vision and the inspired actions you can take to get you there\nLearn an Intuitive Mind Mapping technique to use for life exploration\, decision making and more\nHarness the power of divergent thinking and intuitive flow to find a path of greatest alignment\nConnect with Source/Spirit/Higher Self to support you on your journey\nBe inspired to follow your path and connect with others in community\n\n\nTestimonials\n \n“Audra offers tools\, techniques and strategies both from her guides and from her own experience (wisdom)\, which meant that I walked away with ‘next steps’ to further unfold my journey in line with my desires.” – Michelle \n \n“Audra is an example of what it means to live your purpose. I’m forever grateful for her support during my transformational awakening. She’s the perfect person for ‘the job’ cause she embodies spirit in its essence.” – Zorica \n \n“I knew immediately with Audra that I was safe\, protected and loved. Thank you\, Audra\, for guiding me in the direction of listening to my Higher Self” – Regina \n \n“Audra has such a gift of being able to support and nurture\, while encouraging your own growth. She helps pull the goodness and magic out of you.” – Laura \n \nAbout your presenter\n\n\n\n\n\n\nAudra Santa\n \nAudra is a spiritual mentor\, teacher and medicine woman who has helped thousands of people on their journey of healing\, growth\, awakening and expansion. A creative communicator who acts as a bridge between worlds\, Audra inspires deeper connections to self\, Source\, the earth and each other. \nAudra combines layers of study in psychology\, health\, energy and spirituality\, with inspired guidance and intuitive Source wisdom. She holds an Honours degree in Psychology and Masters in Public Health and has learned from several great teachers and mentors\, but her greatest lessons have been received directly from Spirit and in energetic realms. Much of what Audra teaches is a result of the path she has walked with Spirit and methods she developed in supporting others for over 15 years. \nWith group programs such as The Golden Path\, Audra helps people find their internal compass and walk a road of their Truth. A musician\, songwriter\, producer\, and director she also works across artistic mediums to dance with shadows\, shine the light\, and help others to reconnect with the deepest parts of themselves. In addition to producing her own music and videos\, Audra uses her skills to elevate Indigenous voices and support reconciliation.Learn more about Audra’s work here. \n \n\n\n\nLocation\n \nYou’ll get the Zoom link after you register in your confirmation email. Please check the spam folder of the inbox you use to register for an email from orders@ic.org. \n \nDownload Zoom \n \n\n\nThe Online Event Experience\n\n  \n\n\n\n\n\nLive Zoom Sessions\n \nNothing pre-recorded here! When you sign-up for an event with FIC\, you’ll have the opportunity to join a live session on Zoom with the event presenter/facilitator and other participants. \n\n\n\n\n\nAffordable and Accessible\n \nAll our events are run on a sliding scale basis. Generous donations cover the costs for low-income attendees. FIC is committed to making our programs accessible to people of all walks of life. \n\n\n\n\n\nWatch the Recording\n \nYou’ll receive the recording of your event to view for 60 days. So don’t worry if you can’t attend a live session. Watch or listen whenever it is convenient for you. Transcripts available upon request. \n\n\n\n\n\nRegistration\n\n			\n				\n\n	\n	\n			\n\n\n	\n		Intuitive Mind MappingFrom: $10.00 \n\n	If cost is a barrier to join\, please email us at events@ic.org for a 50% off coupon code. Please include the name of the event you’d like to attend. \n\n\n\n	\n			\n			\n									\n						Donation Level\n						\n							Donation Level$10 - minimum donation (covers presenter's time)$20 - standard donation (covers presenter's time + FIC's costs)$40 - generous donation (covers the above + supports the intentional community movement)Custom donation amountClear						\n					\n							\n		\n		\n		\n			 \n	\n		\n		\n\n		\n		\n\n		\n			\n\n	\n	 \n\n\n\n\n		\n\n	\n	\n		Intuitive Mind Mapping quantity\n	\n	\n\n	Register\n\n	\n\n\n\n\n\n\n	\n	\n	\n\n		\n	\n	\n\n \n\n	\n	\n	Categories: Event\, Program\n	\n	\n\n	\n\n	\n\n			\n			 \n\n\n \n\n\n\nYou might also be interested in \n \n\nIntentional Community Basics On-Demand Course\nFinding Your Community On-Demand Course\nStarting a Community On-Demand Course
URL:https://www.ic.org/event/a-path-of-purpose-intuitive-mind-mapping/
ATTACH;FMTTYPE=image/jpeg:https://www.ic.org/wp-content/uploads/2023/08/Intuitive-Mind-Mapping-product-image.jpg
END:VEVENT
END:VCALENDAR