BEGIN:VCALENDAR
VERSION:2.0
PRODID:-//Foundation for Intentional Community - ECPv6.1.4//NONSGML v1.0//EN
CALSCALE:GREGORIAN
METHOD:PUBLISH
X-WR-CALNAME:Foundation for Intentional Community
X-ORIGINAL-URL:https://www.ic.org
X-WR-CALDESC:Events for Foundation for Intentional Community
REFRESH-INTERVAL;VALUE=DURATION:PT1H
X-Robots-Tag:noindex
X-PUBLISHED-TTL:PT1H
BEGIN:VTIMEZONE
TZID:America/Chicago
BEGIN:DAYLIGHT
TZOFFSETFROM:-0600
TZOFFSETTO:-0500
TZNAME:CDT
DTSTART:20230312T080000
END:DAYLIGHT
BEGIN:STANDARD
TZOFFSETFROM:-0500
TZOFFSETTO:-0600
TZNAME:CST
DTSTART:20231105T070000
END:STANDARD
END:VTIMEZONE
BEGIN:VEVENT
DTSTART;TZID=America/Chicago:20230808T130000
DTEND;TZID=America/Chicago:20230808T143000
DTSTAMP:20230814T100155
CREATED:20230706T191623Z
LAST-MODIFIED:20230726T222221Z
UID:10000833-1691499600-1691505000@www.ic.org
SUMMARY:Planning and Funding Your Regenerative Project
DESCRIPTION:Planning and Funding Your Regenerative Project \nTuesday\, August 8\, 2023  \n\nPacific: 12:00-1:30pm\nMountain: 1:00-2:30pm\nCentral: 2:00-3:30pm\nEastern: 3:00-4:30pm\n\n\nREGISTER NOW\n\n\n\n\n\n \n\n\nJoin the Planning and Funding Your Regenerative Project 90-min masterclass to help bring your regenerative vision to reality. \n\nAbout the event\n \nDo you need help with pre-development planning\, master planning\, financial modeling\, fundraising\, or project management for your eco-project? This webinar is for you!  \n \nIn Planning and Funding Your Regenerative Project\, New Earth Development’s Kelly Krezek will give you the tools you need to create your own regenerative community and raise funding. You’ll learn the foundational elements required to create and executable development plan and presentation that magnetizes investors and key partners. \n \nIn this webinar\, you’ll learn:\n\nhow to go from vision to raising funding\nhow to attract stakeholders & investors\na proven regenerative development model\nhow to get investors to take you seriously\nthe 5 elements of raising funding for your project\n\n\nAbout your presenter\n\n\n\n\n\n\nKelly Krezek\n \nKelly is the CEO of New Earth Development\, a regenerative real estate development company. She has 12 years of experience in financial planning\, real estate investing\, project management\, and sustainable development. Through traveling to over 60 eco-communities across 7 countries and 3 continents\, she gained a broad database of the best cutting-edge regenerative practices and technologies to provide solutions to global issues. \nKelly has worked on 14 real estate development projects ranging from $5M to $400M in size including planned eco-smart cities\, retreat centers\, and sustainable and regenerative communities in California\, Arizona\, Florida\, Texas\, Bali\, Mexico\, Costa Rica\, and Nicaragua. \nAs sustainability consultant she incorporated best practices for environmental\, social and governance structures for large commercial real estate companies such as Howard Hughes\, GID\, PGIM\, and Jamestown with diverse portfolios of multi-family\, office\, and industrial buildings\, with over $100 Billion in assets under management. \n \nLearn more about Kelly and New Earth Development here. \n \n\n\n\nLocation\n \nYou’ll get the Zoom link after you register in your confirmation email. Please check the spam folder of the inbox you use to register for an email from orders@ic.org. \n \nDownload Zoom \n \n\n\nThe Online Event Experience\n\n  \n\n\n\n\n\nLive Zoom Sessions\n \nNothing pre-recorded here! When you sign-up for an event with FIC\, you’ll have the opportunity to join a live session on Zoom with the event presenter/facilitator and other participants. \n\n\n\n\n\nAffordable and Accessible\n \nAll our events are run on a sliding scale basis. Generous donations cover the costs for low-income attendees. FIC is committed to making our programs accessible to people of all walks of life. \n\n\n\n\n\nWatch the Recording\n \nYou’ll receive the recording of your event to view for 60 days. So don’t worry if you can’t attend a live session. Watch or listen whenever it is convenient for you. Transcripts available upon request. \n\n\n\n\n\nRegistration\n\n			\n				\n\n	\n	\n			\n\n\n	\n		Planning and Funding Your Regenerative ProjectFrom: $10.00 \n\n	If cost is a barrier to join\, please email us at events@ic.org for a 50% off coupon code. Please include the name of the event you’d like to attend. \n\n\n\n	\n			\n			\n									\n						Donation Level\n						\n							Donation Level$10 - minimum donation (covers presenter's time)$20 - standard donation (covers presenter's time + FIC's costs)$40 - generous donation (covers the above + supports the intentional community movement)Custom donation amountClear						\n					\n							\n		\n		\n		\n			 \n	\n		\n		\n\n		\n		\n\n		\n			\n\n	\n	 \n\n\n\n\n		\n\n	\n	\n		Planning and Funding Your Regenerative Project quantity\n	\n	\n\n	Register\n\n	\n\n\n\n\n\n\n	\n	\n	\n\n		\n	\n	\n\n \n\n	\n	\n	Categories: Event\, Program\n	\n	\n\n	\n\n	\n\n			\n			 \n\n\n \n\n\n\nYou might also be interested in \n \n\nStarting a Community On-Demand Course\nLegal Basics for Forming Communities 5-Week Course
URL:https://www.ic.org/event/planning-and-funding-your-regenerative-project/
ATTACH;FMTTYPE=image/jpeg:https://www.ic.org/wp-content/uploads/2023/07/Planning-Funding-Your-Regenerative-Project-product-image.jpg
END:VEVENT
END:VCALENDAR