BEGIN:VCALENDAR
VERSION:2.0
PRODID:-//Foundation for Intentional Community - ECPv6.1.4//NONSGML v1.0//EN
CALSCALE:GREGORIAN
METHOD:PUBLISH
X-WR-CALNAME:Foundation for Intentional Community
X-ORIGINAL-URL:https://www.ic.org
X-WR-CALDESC:Events for Foundation for Intentional Community
REFRESH-INTERVAL;VALUE=DURATION:PT1H
X-Robots-Tag:noindex
X-PUBLISHED-TTL:PT1H
BEGIN:VTIMEZONE
TZID:America/Chicago
BEGIN:DAYLIGHT
TZOFFSETFROM:-0600
TZOFFSETTO:-0500
TZNAME:CDT
DTSTART:20230312T080000
END:DAYLIGHT
BEGIN:STANDARD
TZOFFSETFROM:-0500
TZOFFSETTO:-0600
TZNAME:CST
DTSTART:20231105T070000
END:STANDARD
END:VTIMEZONE
BEGIN:VEVENT
DTSTART;TZID=America/Chicago:20230719T170000
DTEND;TZID=America/Chicago:20230719T183000
DTSTAMP:20230814T103950
CREATED:20230610T175624Z
LAST-MODIFIED:20230706T222727Z
UID:10000829-1689786000-1689791400@www.ic.org
SUMMARY:Economic Models for Intentional Communities
DESCRIPTION:Economic Models for Intentional Communities \nWednesday\, July 19\, 2023  \n\nPacific: 3:00-4:30pm\nMountain: 4:00-5:30pm\nCentral: 5:00-6:30pm\nEastern: 6:00-7:30pm\n\n\nREGISTER NOW\n\n\n\n\n\n \n\n\nJoin long-term communitarian and movement builder Sky Blue for an overview of different types of economic models for intentional communities and how they apply to your group. \n\nAbout the event\n \nThe root of economy\, eco\, comes from the Greek word for home. Economics is about how we get our basic needs met\, how we generate & distribute resources\, and the relationships & systems involved. It’s about how we make & spend money\, how we organize & carry out labor\, and how we relate to wealth & ownership. It’s about how we generate the capacity to do all the things we want to do to manifest the vision of our communities. And it’s about how the internal economy of our communities interacts with economic systems beyond our community.  \nDuring Economic Models for Intentional Communities\, we’ll dive into a variety of topics related to economics of Intentional Communities including: \n\nA reconceptualization of what economics mean\, particularly in the context of Intentional Communities\nHow financial concepts relate to ICs\, and practices for Cooperative Financial Management\nDifferent financial models and labor systems available to ICs\, and how they relate to other key aspects such as Purpose\, Governance\, and Culture\n\nWe’ll focus on how these different elements interact with each other and how to create mutually supportive synergy between them. \n \nIn this workshop\, you’ll gain:\n\nA deeper understanding of what economics are and how it applies to your group\nMore knowledge on models and best practices\nA greater sense of clarity and possibility for how your group can align your economic system with your vision & culture\n\n\nAbout your presenter\n\n\n\n\n\n\nSky Blue\n \nSky (they/them) has spent 25 years living\, working\, and organizing in intentional communities\, cooperatives\, and community organizations. Their parents met in Twin Oaks Community in the late 70’s\, where Sky moved as an adult and raised a child. Sky has visited over 130 different communities\, worked with the Federation of Egalitarian Communities and Global Ecovillage Network of North America\, co-organized numerous communities conferences\, and has served as Executive Director and on the Board of Directors for the Foundation for Intentional community. They contribute to a variety of groups as an organizer\, consultant\, and speaker. \n \nYou can learn more about Sky and their work here. \n\n\n\nLocation\n \nYou’ll get the Zoom link after you register in your confirmation email. Please check the spam folder of the inbox you use to register for an email from orders@ic.org. \n \nDownload Zoom \n \n\n\nThe Online Event Experience\n\n  \n\n\n\n\n\nLive Zoom Sessions\n \nNothing pre-recorded here! When you sign-up for an event with FIC\, you’ll have the opportunity to join a live session on Zoom with the event presenter/facilitator and other participants. \n\n\n\n\n\nAffordable and Accessible\n \nAll our events are run on a sliding scale basis. Generous donations cover the costs for low-income attendees. FIC is committed to making our programs accessible to people of all walks of life. \n\n\n\n\n\nWatch the Recording\n \nYou’ll receive the recording of your event to view for 60 days. So don’t worry if you can’t attend a live session. Watch or listen whenever it is convenient for you. Transcripts available upon request. \n\n\n\n\n\nRegistration\n\n \n\n\n \n\n\n\nYou might also be interested in \n \n\nBest of Communities XIII: Cooperative Economics book\nThe Cooperative Culture Handbook
URL:https://www.ic.org/event/economic-models-for-intentional-communities/
ATTACH;FMTTYPE=image/jpeg:https://www.ic.org/wp-content/uploads/2023/06/Economic-Models-for-ICs-product-image.jpg
END:VEVENT
END:VCALENDAR