BEGIN:VCALENDAR
VERSION:2.0
PRODID:-//Foundation for Intentional Community - ECPv6.1.4//NONSGML v1.0//EN
CALSCALE:GREGORIAN
METHOD:PUBLISH
X-ORIGINAL-URL:https://www.ic.org
X-WR-CALDESC:Events for Foundation for Intentional Community
REFRESH-INTERVAL;VALUE=DURATION:PT1H
X-Robots-Tag:noindex
X-PUBLISHED-TTL:PT1H
BEGIN:VTIMEZONE
TZID:America/Chicago
BEGIN:DAYLIGHT
TZOFFSETFROM:-0600
TZOFFSETTO:-0500
TZNAME:CDT
DTSTART:20230312T080000
END:DAYLIGHT
BEGIN:STANDARD
TZOFFSETFROM:-0500
TZOFFSETTO:-0600
TZNAME:CST
DTSTART:20231105T070000
END:STANDARD
END:VTIMEZONE
BEGIN:VEVENT
DTSTART;TZID=America/Chicago:20230712T120000
DTEND;TZID=America/Chicago:20230712T130000
DTSTAMP:20230814T104242
CREATED:20230528T204831Z
LAST-MODIFIED:20230706T223135Z
UID:10000826-1689163200-1689166800@www.ic.org
SUMMARY:Examining Intentional Community Living for Elders
DESCRIPTION:Examining Intentional Community Living for Elders\nWednesday\, July 12\, 2023  \n\nPacific: 10-11:00am\nMountain: 11am-12:00pm\nCentral: 12-1:00pm\nEastern: 1-2:00pm\n\n\nREGISTER NOW\n\n\n\n\n\n \n\n\nJoin longtime communitarian Laird Schaub to examine the realities for elders in contemporary culture and the benefits intentional community can offer. \n\nAbout the event\n \nBeing a senior is a different phase of life than just being a middle-aged adult with less capacity\, and you’ll need to be aware of the needs and potentials in order to make the most of them. \n \nIn Examining Intentional Community Living for Elders\, we’ll briefly lay out the realities for seniors in contemporary culture\, and the special opportunities in intentional community for thriving—not just surviving—in a wider world that tends to venerate youth and warehouse seniors. This info can help you decide if community living is an attractive enough possibility to explore further (and how to be a savvy shopper if the answer is “yes”). \n \nJoin us for this 1-hour webinar to gain a greater understanding how intentional community can support seniors as they age\, as well as get a taste for our upcoming 5-week course\, Aging Gracefully in Community. \n \nIn this webinar\, you’ll learn about:\n\nWhat’s special about the final third of your life\nHow intentional communities can develop a culture that sees seniors realistically and integrates their gifts into community life as best they can\nHow to talk about it\n\n\nAbout your presenter\n\n\n\n\n\n\nLaird Schaub\n \nLaird’s specialty is up-tempo inclusive meetings that engage the full range of human input\, teaching groups to work creatively with conflict and diversity—all the while being ruthless about capturing as much product as possible. He lived for four decades at Sandhill Farm\, an income-sharing rural community that he helped found.Laird also helped found the Foundation for Intentional Community\, where he served as the main administrator for 28 years. In 1987\, he created a self-insurance fund for healthcare among income-sharing communities called PEACH (Preservation of Equity Accessible for Community Health) that he ran for 22 years.In addition to his expertise in community living\, he’s parlayed his passion for good process into a consulting business focused on cooperative group dynamics\, styled CANBRIDGE (Consensus And Network Building for Resolving Impasse and Developing Group Effectiveness)\, since 1987. \n \nRead his blog Laird’s Commentary on Community and Consensus. \n \n\n\n\nLocation\n \nYou’ll get the Zoom link after you register in your confirmation email. Please check the spam folder of the inbox you use to register for an email from orders@ic.org. \n \nDownload Zoom \n \n\n\nThe Online Event Experience\n\n  \n\n\n\n\n\nLive Zoom Sessions\n \nNothing pre-recorded here! When you sign-up for an event with FIC\, you’ll have the opportunity to join a live session on Zoom with the event presenter/facilitator and other participants. \n\n\n\n\n\nAffordable and Accessible\n \nAll our events are run on a sliding scale basis. Generous donations cover the costs for low-income attendees. FIC is committed to making our programs accessible to people of all walks of life. \n\n\n\n\n\nWatch the Recording\n \nYou’ll receive the recording of your event to view for 60 days. So don’t worry if you can’t attend a live session. Watch or listen whenever it is convenient for you. Transcripts available upon request. \n\n\n\n\n\nRegistration\n\n			\n				\n\n	\n	\n			\n\n\n	\n		Examining Intentional Community Living for EldersFree! \n\n\n	\n			\n			\n									\n						Donation Level\n						\n							Donation Level$0 - no donation$10 - standard donation (covers presenter's time)$20 - generous donation (covers presenter's time + FIC's costs)Custom donation amountClear						\n					\n							\n		\n		\n		\n			 \n	\n		\n		\n\n		\n		\n\n		\n			\n\n	\n	 \n\n\n\n\n		\n\n	\n	\n		Examining Intentional Community Living for Elders quantity\n	\n	\n\n	Register\n\n	\n\n\n\n\n\n\n	\n	\n	\n\n		\n	\n	\n\n \n\n	\n	\n	Categories: Event\, Program\n	\n	\n\n	\n\n	\n\n			\n			 \n\n\n \n\n\n\nYou might also be interested in \n \n\nBest of Communities IX: Community for Elders book\nThe Senior Cohousing Handbook\nAging Gracefully in Community course
URL:https://www.ic.org/event/examining-intentional-community-living-for-elders/
ATTACH;FMTTYPE=image/jpeg:https://www.ic.org/wp-content/uploads/2023/05/Aging-Pt-2-Teaser-Product-Image.jpg
END:VEVENT
END:VCALENDAR