BEGIN:VCALENDAR
VERSION:2.0
PRODID:-//Foundation for Intentional Community - ECPv6.15.17.1//NONSGML v1.0//EN
CALSCALE:GREGORIAN
METHOD:PUBLISH
X-ORIGINAL-URL:https://www.ic.org
X-WR-CALDESC:Events for Foundation for Intentional Community
REFRESH-INTERVAL;VALUE=DURATION:PT1H
X-Robots-Tag:noindex
X-PUBLISHED-TTL:PT1H
BEGIN:VTIMEZONE
TZID:America/Chicago
BEGIN:DAYLIGHT
TZOFFSETFROM:-0600
TZOFFSETTO:-0500
TZNAME:CDT
DTSTART:20220313T080000
END:DAYLIGHT
BEGIN:STANDARD
TZOFFSETFROM:-0500
TZOFFSETTO:-0600
TZNAME:CST
DTSTART:20221106T070000
END:STANDARD
BEGIN:DAYLIGHT
TZOFFSETFROM:-0600
TZOFFSETTO:-0500
TZNAME:CDT
DTSTART:20230312T080000
END:DAYLIGHT
BEGIN:STANDARD
TZOFFSETFROM:-0500
TZOFFSETTO:-0600
TZNAME:CST
DTSTART:20231105T070000
END:STANDARD
BEGIN:DAYLIGHT
TZOFFSETFROM:-0600
TZOFFSETTO:-0500
TZNAME:CDT
DTSTART:20240310T080000
END:DAYLIGHT
BEGIN:STANDARD
TZOFFSETFROM:-0500
TZOFFSETTO:-0600
TZNAME:CST
DTSTART:20241103T070000
END:STANDARD
END:VTIMEZONE
BEGIN:VEVENT
DTSTART;TZID=America/Chicago:20230711T130000
DTEND;TZID=America/Chicago:20230711T143000
DTSTAMP:20260421T092631
CREATED:20230609T000330Z
LAST-MODIFIED:20230706T223048Z
UID:554066-1689080400-1689085800@www.ic.org
SUMMARY:Understanding and Addressing Diversity Related Harm
DESCRIPTION:Understanding and Addressing Diversity Related Harm \n\n\n\nTuesday\, July 11\, 2023  \n\n\n\n\nPacific: 11:00am-12:30pm\n\n\n\nMountain: 12:00-1:30pm\n\n\n\nCentral: 1:00-2:30pm\n\n\n\nEastern: 2:00-3:30pm\n\n\n\n\n\nREGISTER NOW\n\n\n\n\n\n\n\n\n\n\n\n\nJoin author and coach Crystal Byrd Farmer to understand and learn how to appropriately address diversity related harm in your community. \n\n\n\n\n\n\n\nAbout the event\n\n\n\n \n\n\n\nWhen people with marginalized identities experience harm in a community\, they often withdraw from community life or leave altogether. If you’re a community member who wants to know why\, this workshop is for you! In Understanding and Addressing Diversity Related Harm in Community\, we’ll discuss the common types of harm that occur around identity (microaggressions) and tools for addressing the harm in the moment as well as after it has occurred. We’ll also cover ways to initiate accountability processes and healing around specific incidents. \n\n\n\n \n\n\n\nIn this workshop\, you’ll:\n\n\n\n\nlearn about microaggressions\n\n\n\npractice call ins and call outs\n\n\n\nlearn how to listen to someone’s account of harm with compassion and care\n\n\n\nuse the 5 Whys to address systemic issues\n\n\n\nlearn how to re-write or create policies to cover identity-related harm\n\n\n\n\n\n\n\n\nAbout your presenter\n\n\n\n\n\n\n\n\n\n\n\n\n\n\n\nCrystal Byrd Farmer\n\n\n\n \n\n\n\nCrystal is an organizer and consultant in the intentional communities movement. She serves as Co-Director for the Foundation for Intentional Community and is on the Editorial Review Board of Communities Magazine published by the Global Ecovillage Network-United States. She also serves as Co-President for the BIPOC Intentional Community Council. In 2020 she published The Token: Common Sense Ideas for Increasing Diversity in Your Organization. Crystal is passionate about encouraging people to change their perspectives on diversity\, relationships\, and the world. \n\n\n\nLearn more about Crystal and her work here. \n\n\n\n \n\n\n\n \n\n\n\n\n\n\n\n\n\nLocation\n\n\n\n \n\n\n\nYou’ll get the Zoom link after you register in your confirmation email. Please check the spam folder of the inbox you use to register for an email from orders@ic.org. \n\n\n\n \n\n\n\nDownload Zoom \n\n\n\n\n\n\n\n\nThe Online Event Experience\n\n\n\n\n\n\n\n  \n\n\n\n\n\n\n\n\n\nLive Zoom Sessions\n\n\n\n \n\n\n\nNothing pre-recorded here! When you sign-up for an event with FIC\, you’ll have the opportunity to join a live session on Zoom with the event presenter/facilitator and other participants. \n\n\n\n\n\n\n\n\n\nAffordable and Accessible\n\n\n\n \n\n\n\nAll our events are run on a sliding scale basis. Generous donations cover the costs for low-income attendees. FIC is committed to making our programs accessible to people of all walks of life. \n\n\n\n\n\n\n\n\n\nWatch the Recording\n\n\n\n \n\n\n\nYou’ll receive the recording of your event to view for 60 days. So don’t worry if you can’t attend a live session. Watch or listen whenever it is convenient for you. Transcripts available upon request. \n\n\n\n\n\n\n\n\n\n\nRegistration\n\n\n\n\n\n\n\n\n\n\n  \n\n\n\n\n\n\n\n\nYou might also be interested in \n\n\n\n \n\n\n\n\nThe Token: Common Sense Ideas for Increasing Diversity in Your Organization\n\n\n\nCommunities Magazine #178: Class\, Race and Privilege\n\n\n\nUnderstanding Diversity in Community re-run course
URL:https://www.ic.org/event/understanding-and-addressing-diversity-related-harm/
ATTACH;FMTTYPE=image/jpeg:https://www.ic.org/wp-content/uploads/2023/06/Diversity-Related-Harm-in-Community-product-image.jpg
END:VEVENT
END:VCALENDAR