BEGIN:VCALENDAR
VERSION:2.0
PRODID:-//Foundation for Intentional Community - ECPv6.1.4//NONSGML v1.0//EN
CALSCALE:GREGORIAN
METHOD:PUBLISH
X-WR-CALNAME:Foundation for Intentional Community
X-ORIGINAL-URL:https://www.ic.org
X-WR-CALDESC:Events for Foundation for Intentional Community
REFRESH-INTERVAL;VALUE=DURATION:PT1H
X-Robots-Tag:noindex
X-PUBLISHED-TTL:PT1H
BEGIN:VTIMEZONE
TZID:America/Chicago
BEGIN:DAYLIGHT
TZOFFSETFROM:-0600
TZOFFSETTO:-0500
TZNAME:CDT
DTSTART:20230312T080000
END:DAYLIGHT
BEGIN:STANDARD
TZOFFSETFROM:-0500
TZOFFSETTO:-0600
TZNAME:CST
DTSTART:20231105T070000
END:STANDARD
END:VTIMEZONE
BEGIN:VEVENT
DTSTART;TZID=America/Chicago:20230629T180000
DTEND;TZID=America/Chicago:20230629T193000
DTSTAMP:20230814T104659
CREATED:20230528T192127Z
LAST-MODIFIED:20230619T232107Z
UID:10000824-1688061600-1688067000@www.ic.org
SUMMARY:Fight Languages: How you fight with yourself and others
DESCRIPTION:Fight Languages: How you fight with yourself and others \nThursday\, June 29\, 2023  \n\nPacific: 4:00-5:30pm\nMountain: 5:00-6:30pm\nCentral: 6:00-7:30pm\nEastern: 7:00-8:30pm\n\n\nREGISTER NOW\n\n\n\n\n\n \n\n\nJoin Fight Languages creator\, Lena Morgan\, to discover how you fight with yourself and others and how to connect with yourself and others in conflict. \n\nAbout the event\n \nEverybody fights\, and your biggest antagonist is often yourself. Join us to learn what your Fight Language is and how you’ve been speaking it in protective and productive ways.  \nThe Fight Languages: How you fight with yourself and others workshop will give you a new depth of information to better understand yourself and others in conflict and resolution. This is not a one-size-fits-all approach\, but instead breaks down each Fight Language to honor the unique path each takes through conflict. \nDuring this workshop you will learn:\n\nwhat the Fight Languages are\nhow to recognize each and speak them in a conflict\nhow to connect with each Fight Language\nrecognize how you are the antagonist you fight with the most\nhow to understand and connect with yourself\, and everyone else\, in disagreements and conflict\n\n\nAbout your presenter\n\n\n\n\n\n\nLena Morgan\n \nLena began her career of connecting people back to themselves in the place where it all begins. Working as a midwife for over a decade she had the honor of walking alongside women as they discovered their innate power and ability. Pulling from this wisdom\, she untangled the process of rebirth after burnout\, death\, and divorce left her unrecognizable to herself. Coaching others through the same self discovery led to the creation of the Fight Languages\, a new way to articulate the protective and productive ways we fight with ourselves and others. Her work is helping individuals\, partnerships\, organizations\, and businesses understand themselves and others better\, and find more connection. You can learn more about Lena’s work here. \n \n\n\n\nLocation\n \nYou’ll get the Zoom link after you register in your confirmation email. Please check the spam folder of the inbox you use to register for an email from orders@ic.org. \n \nDownload Zoom \n \n\n\nThe Online Event Experience\n\n  \n\n\n\n\n\nLive Zoom Sessions\n \nNothing pre-recorded here! When you sign-up for an event with FIC\, you’ll have the opportunity to join a live session on Zoom with the event presenter/facilitator and other participants. \n\n\n\n\n\nAffordable and Accessible\n \nAll our events are run on a sliding scale basis. Generous donations cover the costs for low-income attendees. FIC is committed to making our programs accessible to people of all walks of life. \n\n\n\n\n\nWatch the Recording\n \nYou’ll receive the recording of your event to view for 60 days. So don’t worry if you can’t attend a live session. Watch or listen whenever it is convenient for you. Transcripts available upon request. \n\n\n\n\n\nRegistration\n\n \n\n\n \n\n\n\nYou might also be interested in \n \n\nThe Cooperative Culture Handbook\nBest of Communities VI: Agreements\, Conflict & Communication book\nWorking Constructively with Conflict in Community course
URL:https://www.ic.org/event/fight-languages-how-you-fight-with-yourself-and-others/
ATTACH;FMTTYPE=image/jpeg:https://www.ic.org/wp-content/uploads/2023/05/Fight-Languages-product-image.jpg
END:VEVENT
END:VCALENDAR