BEGIN:VCALENDAR
VERSION:2.0
PRODID:-//Foundation for Intentional Community - ECPv6.15.17.1//NONSGML v1.0//EN
CALSCALE:GREGORIAN
METHOD:PUBLISH
X-ORIGINAL-URL:https://www.ic.org
X-WR-CALDESC:Events for Foundation for Intentional Community
REFRESH-INTERVAL;VALUE=DURATION:PT1H
X-Robots-Tag:noindex
X-PUBLISHED-TTL:PT1H
BEGIN:VTIMEZONE
TZID:America/Chicago
BEGIN:DAYLIGHT
TZOFFSETFROM:-0600
TZOFFSETTO:-0500
TZNAME:CDT
DTSTART:20220313T080000
END:DAYLIGHT
BEGIN:STANDARD
TZOFFSETFROM:-0500
TZOFFSETTO:-0600
TZNAME:CST
DTSTART:20221106T070000
END:STANDARD
BEGIN:DAYLIGHT
TZOFFSETFROM:-0600
TZOFFSETTO:-0500
TZNAME:CDT
DTSTART:20230312T080000
END:DAYLIGHT
BEGIN:STANDARD
TZOFFSETFROM:-0500
TZOFFSETTO:-0600
TZNAME:CST
DTSTART:20231105T070000
END:STANDARD
BEGIN:DAYLIGHT
TZOFFSETFROM:-0600
TZOFFSETTO:-0500
TZNAME:CDT
DTSTART:20240310T080000
END:DAYLIGHT
BEGIN:STANDARD
TZOFFSETFROM:-0500
TZOFFSETTO:-0600
TZNAME:CST
DTSTART:20241103T070000
END:STANDARD
END:VTIMEZONE
BEGIN:VEVENT
DTSTART;TZID=America/Chicago:20230622T120000
DTEND;TZID=America/Chicago:20230622T133000
DTSTAMP:20260421T092636
CREATED:20230528T191238Z
LAST-MODIFIED:20230619T231412Z
UID:553206-1687435200-1687440600@www.ic.org
SUMMARY:Regenerative Economics for Intentional Communities and Beyond
DESCRIPTION:Regenerative Economics for Intentional Community and Beyond \n\n\n\nThursday\, June 22\, 2023  \n\n\n\n\nPacific: 10:00-11:30am\n\n\n\nMountain: 11:00am-12:30pm\n\n\n\nCentral: 12:00-1:30pm\n\n\n\nEastern: 1:00-2:30pm\n\n\n\n\n\nREGISTER NOW\n\n\n\n\n\n\n\n\n\n\n\n\nJoin renegade economist Della Duncan for an introductory workshop on Regenerative Economics for your intentional community and beyond. \n\n\n\n\n\n\n\nAbout the event\n\n\n\n \n\n\n\nRegenerative Economics moves us from extractive and exploitative ways of living\, working\, and meeting our needs to ways that are more just\, equitable\, and healthy for both people and the planet. \n\n\n\nDuring the Regenerative Economics for Intentional Communities and Beyond workshop\, we’ll explore Regenerative Economics through quotes\, poems\, practices and real-world case studies. We’ll look at the stories and beliefs behind the numbers\, challenge mainstream economic assumptions and integrate insights and inspirations from living alternatives in our lives\, communities and livelihood journeys. \n\n\n\nDuring this workshop you will:\n\n\n\n\nIdentify perceptions about work and economics that are not delivering you\, others\, and/or the planet well being and health\n\n\n\nDevelop a vision for your vocation\, potentially incorporating multiple roles and activities\, to demonstrate how you can contribute effectively to the challenges of our time\n\n\n\nIdentify regenerative and cooperative economic theories\, tools\, and business models\n\n\n\n\n\n\n\n\nAbout your presenter\n\n\n\n\n\n\n\n\n\n\n\n\n\n\n\nDella Duncan\n\n\n\n \n\n\n\nDella is a Renegade Economist. Areas of her livelihood garden include supporting individuals as a Right Livelihood Coach\, helping transition organizations as a post-capitalist consultant\, facilitating courses and retreats on the Work that Reconnects and Regenerative Economics\, and hosting the Upstream Podcast which challenges mainstream economic thinking through documentaries and conversations including most recently\, The Green Transition Pt 1: The Problem with Green Capitalism and Pt 2: A Green Deal for the People. Della is also the Course Development Manager of Fritjof Capra’s Capra Course on the Systems View of Life\, a founding member of the California Doughnut Economics Coalition\, a Senior Fellow of Social and Economic Equity at the London School of Economics\, a Gross National Happiness Master Trainer\, and a Senior Lecturer of Renegade Economics and Regenerative Livelihoods at the California Institute of Integral Studies\, Santa Cruz Permaculture\, Vital Cycles Permaculture\, and Gaia Education. \n\n\n\nLearn more about Della here. \n\n\n\n \n\n\n\n\n\n\n\n\n\nLocation\n\n\n\n \n\n\n\nYou’ll get the Zoom link after you register in your confirmation email. Please check the spam folder of the inbox you use to register for an email from orders@ic.org. \n\n\n\n \n\n\n\nDownload Zoom \n\n\n\n\n\n\n\n\nThe Online Event Experience\n\n\n\n\n\n\n\n  \n\n\n\n\n\n\n\n\n\nLive Zoom Sessions\n\n\n\n \n\n\n\nNothing pre-recorded here! When you sign-up for an event with FIC\, you’ll have the opportunity to join a live session on Zoom with the event presenter/facilitator and other participants. \n\n\n\n\n\n\n\n\n\nAffordable and Accessible\n\n\n\n \n\n\n\nAll our events are run on a sliding scale basis. Generous donations cover the costs for low-income attendees. FIC is committed to making our programs accessible to people of all walks of life. \n\n\n\n\n\n\n\n\n\nWatch the Recording\n\n\n\n \n\n\n\nYou’ll receive the recording of your event to view for 60 days. So don’t worry if you can’t attend a live session. Watch or listen whenever it is convenient for you. Transcripts available upon request. \n\n\n\n\n\n\n\n\n\n\nRegistration\n\n\n\n\n\n\n\n\n\n\n  \n\n\n\n\n\n\n\n\nYou might also be interested in \n\n\n\n \n\n\n\n\nEconomic Models for Intentional Communities workshop\n\n\n\nBest of Communities XIII: Cooperative Economics book
URL:https://www.ic.org/event/regenerative-economics-for-intentional-communities-and-beyond/
ATTACH;FMTTYPE=image/jpeg:https://www.ic.org/wp-content/uploads/2023/05/Regenerative-Economics-product-image.jpg
END:VEVENT
END:VCALENDAR